BEGIN:VCALENDAR
PRODID:NingEventWidget-v1
VERSION:2.0
METHOD:PUBLISH
BEGIN:VEVENT
UID:2508951:Event:108649
DTSTAMP:20260421T101920Z
SUMMARY:The Pushers!  Sketch and Improv Comedy
DESCRIPTION:Hampton Roads #1 Sketch and Improv comedy group are back a
 t 37th & Zen!After a sold out show at The Virginia Beach Funny Bone, 
 The Pushers are back in Norfolk with an all-new show.Brand new sketch
 es! Fly by the seat of your pants improv fun. ...And a very special gu
 est (look out long-time Pushers fans)!If you missed The Pushers at The
  Funny Bone... this is your chance to make up for it.The Pushers! Sket
 ch and Improv ComedyFriday, April 29th at 37th & Zen.1038 37th Street.
  Norfolk, VA.The show starts at 10pm and only costs 5 bucks.www.thepus
 herscomedy.com\n\n\n\nFor more information visit https://vbnightlife.c
 om/events/the-pushers-sketch-and-improv
DTSTART:20110430T020000Z
DTEND:20110430T040000Z
CATEGORIES:sketch, comedy
LOCATION:37th & Zen
WEBSITE:http://thepusherscomedy.com
URL:http://thepusherscomedy.com
CONTACT:7575335151
ORGANIZER;CN="The Pushers":https://vbnightlife.com/profile/ThePushers
ATTACH;FMTTYPE="image/jpeg":
ATTENDEE;ROLE=REQ-PARTICIPANT;PARTSTAT=ACCEPTED;RSVP=TRUE;CN="The Push
 ers":https://vbnightlife.com/profile/ThePushers
END:VEVENT
END:VCALENDAR
