BEGIN:VCALENDAR
PRODID:NingEventWidget-v1
VERSION:2.0
METHOD:PUBLISH
BEGIN:VEVENT
UID:2508951:Event:313311
DTSTAMP:20260425T202124Z
SUMMARY:VBnightlife FULL MOON PARTY at The Pearl Club - After Work Soc
 ial - Live Music with Brandon Peter and Happy Hour Drink and Food Spec
 ials
DESCRIPTION: We will have prizes and surprises from VBnightlife with 
 gift certificates for FREE Lane rental at Colonial Shooting Academy an
 d FREE PASSES to The Adventure Park ($50 value).\nBrandon Peter LIVE!\
 nBrandon Peter has been playing in the Hampton Roads for more than a d
 ecade. His distinctive and unique vocal style and exceptional guitar p
 laying has pleased a broad variety of audiences. Brandon's diverse son
 g selections range from classics of the 60's to brand new hits of toda
 y.\n  The Pearl Club - 324 N. Great Neck Rd- Live Music 5 to 8 + Ha
 ppy Hour 4 to 8pm   - (757) 340-0004\n\nThe Pearl Club is a new Live
  Music Venue with Upscale Bar and Late Night DJ Experience\n\nOFFERING
  FRIENDLY, ATTENTIVE SERVICE AND SUMPTUOUS SEASONAL COASTAL CUISINE, 
 NEW AMERICAN STYLE AND EVER CHANGING SEASONAL SELECTIONS. \n \nJoin 
 us from 5:30 to 8:30 for Happy Hour with Buy One Get One 1/2 off Tapas
  and drink specials on Beer, Wine, Mixed Drinks and Martinis.\n$4 Impo
 rt Beer $3 Domestic & Local Beer $5 Wine $3 Well Drinks $5 Select Mart
 ini $4 Fireball\n\n\n\n\nFor more information visit https://vbnightlif
 e.com/events/the-pearl-club-after-work-party-fridays-in-august-3
DTSTART:20150828T213000Z
DTEND:20150829T003000Z
CATEGORIES:"happy hour virginia beach", "live music virginia beach", "
 the pearl club virginia beach"
LOCATION:The Pearl Club
WEBSITE:http://324 N. Great Neck Road
URL:http://324 N. Great Neck Road
CONTACT:(757) 340-0004
ORGANIZER:The Pearl Club / VBnightlife
ATTACH;FMTTYPE="image/jpeg":http://storage.ning.com/topology/rest/1.0/
 file/get/1664285946?profile=original
ATTENDEE;ROLE=REQ-PARTICIPANT;PARTSTAT=ACCEPTED;RSVP=TRUE;CN="VBnightl
 ife.com":https://vbnightlife.com/profile/admin
END:VEVENT
END:VCALENDAR
