BEGIN:VCALENDAR
PRODID:NingEventWidget-v1
VERSION:2.0
METHOD:PUBLISH
BEGIN:VEVENT
UID:2508951:Event:13267
DTSTAMP:20260425T185242Z
SUMMARY:The Party's ON All Weekend at Rudee's!  It's 5 o'clock somewhe
 re!
DESCRIPTION:$3.99 Half Dozen Gulf Shrimp, Rudee’s Smoked Mahi Dip or
  Fried Calamari Daily from 3-5:30. Cold drinks - cool atmosphere - onl
 y at Rudee's!\n\nFor more information visit https://vbnightlife.com/ev
 ents/the-partys-on-all-weekend-at
DTSTART:20090508T040000Z
DTEND:20090510T035900Z
CATEGORIES:cabana, party
LOCATION:Rudee's Restaurant & Raw Bar
WEBSITE:http://www.rudees.com
URL:http://www.rudees.com
CONTACT:757.425.1777
ORGANIZER:Rudee's Restaurant
ATTACH;FMTTYPE="image/jpeg":
ATTENDEE;ROLE=REQ-PARTICIPANT;PARTSTAT=ACCEPTED;RSVP=TRUE;CN=Ginny:htt
 ps://vbnightlife.com/profile/Ginny
END:VEVENT
END:VCALENDAR
