BEGIN:VCALENDAR
PRODID:NingEventWidget-v1
VERSION:2.0
METHOD:PUBLISH
BEGIN:VEVENT
UID:2508951:Event:25841
DTSTAMP:20260425T130004Z
SUMMARY:The Office tonight @ Kokoamos  10PM
DESCRIPTION:The Office plays tonight @ Kokoamos, we will punch the clo
 ck\nat 10PM & rock out until 1:30AM.\nCome and show some support for o
 ur new band.\n\nSee you there!\n\nFor more information visit https://v
 bnightlife.com/events/the-office-tonight-kokoamos
DTSTART:20091129T030000Z
DTEND:20091129T063000Z
CATEGORIES:live, alternative, music
LOCATION:2100 Marina Shores Dr.
WEBSITE:http://www.theofficeband.com
URL:http://www.theofficeband.com
CONTACT:757-481-3388
ORGANIZER:Kokoamos & The Office
ATTACH;FMTTYPE="image/jpeg":http://storage.ning.com/topology/rest/1.0/
 file/get/1664094750?profile=original
ATTENDEE;ROLE=REQ-PARTICIPANT;PARTSTAT=ACCEPTED;RSVP=TRUE;CN="The Offi
 ce":https://vbnightlife.com/profile/TheOffice
END:VEVENT
END:VCALENDAR
