BEGIN:VCALENDAR
PRODID:NingEventWidget-v1
VERSION:2.0
METHOD:PUBLISH
BEGIN:VEVENT
UID:2508951:Event:5588
DTSTAMP:20260425T213432Z
SUMMARY:The Noblemen Present - GUAVA JAM Benefit Party
DESCRIPTION:8pm to 12am\n\nGuava_Jam_Party.pdf\n\nFor more information
  visit https://vbnightlife.com/events/the-noblemen-present-guava
DTSTART:20090213T050000Z
DTEND:20090214T045900Z
CATEGORIES:benefit
LOCATION:Wyndham Virginia Beach Oceanfront
WEBSITE:
URL:
CONTACT:
ORGANIZER:The Noblemen
ATTACH;FMTTYPE="image/jpeg":http://storage.ning.com/topology/rest/1.0/
 file/get/1664068632?profile=original
ATTENDEE;ROLE=REQ-PARTICIPANT;PARTSTAT=ACCEPTED;RSVP=TRUE;CN="Nicole M
 axino":https://vbnightlife.com/profile/NicoleMaxino
END:VEVENT
END:VCALENDAR
