BEGIN:VCALENDAR
PRODID:NingEventWidget-v1
VERSION:2.0
METHOD:PUBLISH
BEGIN:VEVENT
UID:2508951:Event:200433
DTSTAMP:20260422T044212Z
SUMMARY:The Nobleman present: ZOOFEST
DESCRIPTION:\n \nGet your tickets HERE\n\nFor more information visit 
 https://vbnightlife.com/events/the-nobleman-present-zoofest
DTSTART:20120819T000000Z
DTEND:20120819T040000Z
CATEGORIES:"virginia beach events", "virginia beach nightlife", "virgi
 nai beach fundraisers", "nobleman events", zoofest
LOCATION:The Virginia Zoo
WEBSITE:http://www.thenoblemen.org/events
URL:http://www.thenoblemen.org/events
CONTACT:
ORGANIZER;CN="VBnightlife.com":https://vbnightlife.com/profile/admin
ATTACH;FMTTYPE="image/jpeg":http://storage.ning.com/topology/rest/1.0/
 file/get/1664178048?profile=original
ATTENDEE;ROLE=REQ-PARTICIPANT;PARTSTAT=ACCEPTED;RSVP=TRUE;CN="VBnightl
 ife.com":https://vbnightlife.com/profile/admin
END:VEVENT
END:VCALENDAR
