BEGIN:VCALENDAR
PRODID:NingEventWidget-v1
VERSION:2.0
METHOD:PUBLISH
BEGIN:VEVENT
UID:2508951:Event:5770
DTSTAMP:20260425T225531Z
SUMMARY:THE NEEDLES @ Chichos
DESCRIPTION:punk / rock / garage\n\nFor more information visit https:/
 /vbnightlife.com/events/the-needles-chichos
DTSTART:20090209T030000Z
DTEND:20090209T060000Z
CATEGORIES:live, music
LOCATION:Chichos
WEBSITE:
URL:
CONTACT:
ORGANIZER:chichos
ATTACH;FMTTYPE="image/jpeg":http://storage.ning.com/topology/rest/1.0/
 file/get/3723680072?profile=original
ATTENDEE;ROLE=REQ-PARTICIPANT;PARTSTAT=ACCEPTED;RSVP=TRUE;CN="Nicole M
 axino":https://vbnightlife.com/profile/NicoleMaxino
END:VEVENT
END:VCALENDAR
