BEGIN:VCALENDAR
PRODID:NingEventWidget-v1
VERSION:2.0
METHOD:PUBLISH
BEGIN:VEVENT
UID:2508951:Event:12581
DTSTAMP:20260425T201759Z
SUMMARY:THE LAST WALTZ - A TRIBUTE TO WALT REDMOND JR. FEATURING VINYL
  HEADLIGHTS, BUTTER and 20 OTHERS!!!!!!!!!!
DESCRIPTION:\n\nat Saddle Ridge\nNewport News\n\n5:30pm Vinyl Headligh
 ts\n6:15pm Butter\n\nFor more information visit https://vbnightlife.co
 m/events/the-last-waltz-a-tribute-to
DTSTART:20090510T040000Z
DTEND:20090511T035900Z
CATEGORIES:band
LOCATION:Saddle Ridge
WEBSITE:
URL:
CONTACT:
ORGANIZER:Saddle Ridge
ATTACH;FMTTYPE="image/jpeg":http://storage.ning.com/topology/rest/1.0/
 file/get/1664073027?profile=original
ATTENDEE;ROLE=REQ-PARTICIPANT;PARTSTAT=ACCEPTED;RSVP=TRUE;CN="Nicole M
 axino":https://vbnightlife.com/profile/NicoleMaxino
END:VEVENT
END:VCALENDAR
