BEGIN:VCALENDAR
PRODID:NingEventWidget-v1
VERSION:2.0
METHOD:PUBLISH
BEGIN:VEVENT
UID:2508951:Event:100169
DTSTAMP:20260423T145229Z
SUMMARY:The HISTORIC VILLAGES AT CAPE HENRY PRESENT \"OUT WITH THE LIG
 HT\"
DESCRIPTION:A Reenactment of the Civil War Skirmish at Cape Henry! Joi
 n us for an exciting re-enactment of the Confederate militia's attack 
 on the Cape Henry Light and the responser of the Union troops. Visitor
 s will be able to tour both a Confederate and a Union encampment, expe
 rience the attack on the actual site on which it occurred, and learn f
 rom re0enactors dedicated to accurately portraying the rich history of
  the Tidewater region.\n\nApril 9th 10am - 3pm\nApril 10th 12pm to 3pm
 \n\nFREE AND OPEN TO THE PUBLIC\n\n\n\nFor more information visit http
 s://vbnightlife.com/events/the-historic-villages-at-cape
DTSTART:20110409T140000Z
DTEND:20110410T190000Z
CATEGORIES:family, fun
LOCATION:OLD CAPE HENRY LIGHTHOUSE
WEBSITE:http://www.firstlandingfoundation.com/index.html
URL:http://www.firstlandingfoundation.com/index.html
CONTACT:757-417-7012
ORGANIZER:VBnightlife.com / VBdaylife.com
ATTACH;FMTTYPE="image/jpeg":http://storage.ning.com/topology/rest/1.0/
 file/get/1664136246?profile=original
ATTENDEE;ROLE=REQ-PARTICIPANT;PARTSTAT=ACCEPTED;RSVP=TRUE;CN="VBnightl
 ife.com":https://vbnightlife.com/profile/admin
END:VEVENT
END:VCALENDAR
