BEGIN:VCALENDAR
PRODID:NingEventWidget-v1
VERSION:2.0
METHOD:PUBLISH
BEGIN:VEVENT
UID:2508951:Event:42273
DTSTAMP:20260424T045816Z
SUMMARY:THE HEAT IS ON!
DESCRIPTION:The heat is on at Grumpy's Bar & Grill with Live Music fro
 m Triple Shot!!! Giveaways every 1/2 hour starting at 6pm! Chill out o
 n this hot summer's night with cool drink specials all evening long. T
 he food is incredible!...not just bar food either - Grumpy's has a ful
 l menu of delicious homecooked breakfast, lunch & dinner. Good food...
 Good fun.... Band starts at 9:30pm - see you there! Come Grumpy - Leav
 e Happy! 3541 South Plaza Trail (corner of Rosement Rd & South Plaza),
  VB (757) 463-5033\n\nFor more information visit https://vbnightlife.c
 om/events/the-heat-is-on
DTSTART:20100724T040000Z
DTEND:20100725T035900Z
CATEGORIES:live, music, "&", specials
LOCATION:Grumpy's Bar & Grill
WEBSITE:
URL:
CONTACT:757-463-5033
ORGANIZER:Grumpy's Bar & Grill
ATTACH;FMTTYPE="image/jpeg":
ATTENDEE;ROLE=REQ-PARTICIPANT;PARTSTAT=ACCEPTED;RSVP=TRUE;CN="Kelly Co
 llins":https://vbnightlife.com/profile/KellyWerrell
END:VEVENT
END:VCALENDAR
