BEGIN:VCALENDAR
PRODID:NingEventWidget-v1
VERSION:2.0
METHOD:PUBLISH
BEGIN:VEVENT
UID:2508951:Event:192922
DTSTAMP:20260425T225529Z
SUMMARY:The Hampton Roads Bartender’s Ball
DESCRIPTION:The Hampton Roads Bartender’s Ball was started in 1991, 
 took a 6-year hiatus and returned in 2011 with a tremendous and genero
 us audience. Over the years, the Hampton Roads Charitable Fund has don
 ated over $500,000 to many local and national charities. The hospitali
 ty industry continues to support and look forward to this annual event
 .\n This year’s benefiting charities include Operation Smile, The Vo
 lunteers of America: Lighthouse Center, the Cystic Fibrosis Foundation
 , and the Navy SEAL Foundation.  Dress: Back to the Future Creative Bl
 ack tie or All Black Tickets: $35 General Admission Includes: heavy ho
 rs d’oeuvres, entertainment, and cash bar $100 VIP Admission\nApril 
 15 - 8  until last call. Sheraton Waterside\n\nBuy by April 7 and tic
 kets will be mailed to you.\nIncludes: heavy hors d’oeuvres, enterta
 inment, open bar, access to private VIP rooms, and commemorative glass
 .There is NO VIP room. All access All rooms.\nThere will be a complime
 ntary bloody mary bar monday morning, following the night of Bartender
 s Ball evening for guests who stayed the night at the Sheraton.\n*Tabl
 e Sponsorships Available*\nBook a Room zt the Sheraton with special Ba
 rtender Ball Room Rate; $99.00.\n\n\n\nFor more information visit http
 s://vbnightlife.com/events/the-hampton-roads-bartender-s-ball
DTSTART:20120415T040000Z
DTEND:20120416T035900Z
CATEGORIES:fundraiser
LOCATION:Sheraton Waterside
WEBSITE:
URL:
CONTACT:
ORGANIZER;CN="VBnightlife.com":https://vbnightlife.com/profile/admin
ATTACH;FMTTYPE="image/jpeg":http://storage.ning.com/topology/rest/1.0/
 file/get/1664166320?profile=original
ATTENDEE;ROLE=REQ-PARTICIPANT;PARTSTAT=ACCEPTED;RSVP=TRUE;CN="VBnightl
 ife.com":https://vbnightlife.com/profile/admin
ATTENDEE;ROLE=REQ-PARTICIPANT;PARTSTAT=TENTATIVE;RSVP=TRUE;CN="Steve Y
 ancoskie":https://vbnightlife.com/profile/SteveYancoskie
END:VEVENT
END:VCALENDAR
