BEGIN:VCALENDAR
PRODID:NingEventWidget-v1
VERSION:2.0
METHOD:PUBLISH
BEGIN:VEVENT
UID:2508951:Event:6022
DTSTAMP:20260426T001145Z
SUMMARY:THE FOUNDERS INN AND SPA
DESCRIPTION:Swan Terrace Three-course selections:\n\nAdmission: - dinn
 er for two $115 including tax and gratuity\n\nsecond course options:\n
 \nsalmon roulade stuffed with ricotta, spinach and tomatoes with roast
 ed garlic and shallot risotto, and prosciuto-wrapped asparagus\nbrie-s
 tuffed filet mignon topped with crabmeat; boursin mashed potatoes, Swi
 ss chard cabernet reduction\nBBQ rubbed, bone-in center cut pork chop,
  cheddar and apple wood bacon grit cakes with sage cream collards\nhal
 f-roasted game hen with apple compote, sausage lentils and sautéed sp
 inach\nDessert options:\n\nblack forest cake (dessert for two)\npots d
 e crèmel\nindividual strawberry shortcakes\nGrand Marnier chocolate c
 rème brule\n\nFor more information visit https://vbnightlife.com/even
 ts/the-founders-inn-and-spa
DTSTART:20090214T230000Z
DTEND:20090215T040000Z
CATEGORIES:dinner, special
LOCATION:The Founders Inn and Spa
WEBSITE:
URL:
CONTACT:757-366-5700
ORGANIZER:The Founders Inn
ATTACH;FMTTYPE="image/jpeg":http://storage.ning.com/topology/rest/1.0/
 file/get/1664069212?profile=original
ATTENDEE;ROLE=REQ-PARTICIPANT;PARTSTAT=ACCEPTED;RSVP=TRUE;CN="Nicole M
 axino":https://vbnightlife.com/profile/NicoleMaxino
END:VEVENT
END:VCALENDAR
