BEGIN:VCALENDAR
PRODID:NingEventWidget-v1
VERSION:2.0
METHOD:PUBLISH
BEGIN:VEVENT
UID:2508951:Event:12611
DTSTAMP:20260425T142435Z
SUMMARY:THE FORCE, DIVINE RATIO AND MANY OTHER GREAT BANDS @ BENEFIT F
 OR THE WOUNDED WARRIORS @ SCOTTY QUIXX
DESCRIPTION:Benefit For The Wounded Warriors brought to you by the 'GL
 OBAL SURF NETWORK':\n\nSurf Films & Musical Expression Session -- Film
  & Band Schedule:\n\n5:00pm - 5:45pm --Global Surf Films\n5:45pm - 6:4
 5pm -- 3 Surf Film Shorts\n6:45pm - 7:45pm --'Centro Nicaragua'\n\n'Be
 tween The Lines': Music/Band Schedule:\n7:45pm - 8:45pm FORCE\n8:45pm 
 - 9:45pm Underground District\n9:45pm - 10:45pm Master Bluesman Mojo C
 ollin\n10:45pm 11:45pm -- DreadLine\n11:45pm - 12:45am The Influence\n
 12:45am - 1:54am Divine Ratio\n\nFor more information visit https://vb
 nightlife.com/events/the-force-divine-ratio-and
DTSTART:20090513T040000Z
DTEND:20090514T035900Z
CATEGORIES:fundraiser, live, music
LOCATION:Scotty Quixx
WEBSITE:
URL:
CONTACT:
ORGANIZER;CN="Nicole Maxino":https://vbnightlife.com/profile/NicoleMax
 ino
ATTACH;FMTTYPE="image/jpeg":http://storage.ning.com/topology/rest/1.0/
 file/get/1664074846?profile=original
ATTENDEE;ROLE=REQ-PARTICIPANT;PARTSTAT=ACCEPTED;RSVP=TRUE;CN="Nicole M
 axino":https://vbnightlife.com/profile/NicoleMaxino
END:VEVENT
END:VCALENDAR
