BEGIN:VCALENDAR
PRODID:NingEventWidget-v1
VERSION:2.0
METHOD:PUBLISH
BEGIN:VEVENT
UID:2508951:Event:9008
DTSTAMP:20260425T172933Z
SUMMARY:THE FORCE @ AJ GATORS - GENERAL BOOTH
DESCRIPTION:9:30\n\nFor more information visit https://vbnightlife.com
 /events/the-force-aj-gators-general
DTSTART:20090404T040000Z
DTEND:20090405T035900Z
CATEGORIES:live, music
LOCATION:A.J. Gators
WEBSITE:
URL:
CONTACT:
ORGANIZER;CN="Nicole Maxino":https://vbnightlife.com/profile/NicoleMax
 ino
ATTACH;FMTTYPE="image/jpeg":http://storage.ning.com/topology/rest/1.0/
 file/get/1664070508?profile=original
ATTENDEE;ROLE=REQ-PARTICIPANT;PARTSTAT=ACCEPTED;RSVP=TRUE;CN="Nicole M
 axino":https://vbnightlife.com/profile/NicoleMaxino
END:VEVENT
END:VCALENDAR
