BEGIN:VCALENDAR
PRODID:NingEventWidget-v1
VERSION:2.0
METHOD:PUBLISH
BEGIN:VEVENT
UID:2508951:Event:35569
DTSTAMP:20260426T003246Z
SUMMARY:the F.A.B. band
DESCRIPTION:the F.A.B. band outdoor show at the Hunterdale Ruritan Clu
 b's annual event..\n\nFor more information visit https://vbnightlife.c
 om/events/the-fab-band
DTSTART:20100519T210000Z
DTEND:20100520T010000Z
CATEGORIES:outdoor, bbq, and, fund, raiser
LOCATION:Franklin, Va.
WEBSITE:
URL:
CONTACT:
ORGANIZER;CN="the Feature Attraction band":https://vbnightlife.com/pro
 file/MesaTone
ATTACH;FMTTYPE="image/jpeg":http://storage.ning.com/topology/rest/1.0/
 file/get/1664108648?profile=original
ATTENDEE;ROLE=REQ-PARTICIPANT;PARTSTAT=ACCEPTED;RSVP=TRUE;CN="the Feat
 ure Attraction band":https://vbnightlife.com/profile/MesaTone
END:VEVENT
END:VCALENDAR
