BEGIN:VCALENDAR
PRODID:NingEventWidget-v1
VERSION:2.0
METHOD:PUBLISH
BEGIN:VEVENT
UID:2508951:Event:33062
DTSTAMP:20260421T004649Z
SUMMARY:The Dynamos
DESCRIPTION:The Dynamos at The Tiki Seagrille and Bar Saturday\n\nFor 
 more information visit https://vbnightlife.com/events/the-dynamos-2
DTSTART:20100321T010000Z
DTEND:20100321T180000Z
CATEGORIES:music
LOCATION:Sandbridge
WEBSITE:
URL:
CONTACT:689-8777
ORGANIZER;CN="The Dynamos":https://vbnightlife.com/profile/TheDynamos
ATTACH;FMTTYPE="image/jpeg":http://storage.ning.com/topology/rest/1.0/
 file/get/1664105533?profile=original
ATTENDEE;ROLE=REQ-PARTICIPANT;PARTSTAT=ACCEPTED;RSVP=TRUE;CN="Karen Be
 ebe":https://vbnightlife.com/profile/KarenBeebe
ATTENDEE;ROLE=REQ-PARTICIPANT;PARTSTAT=ACCEPTED;RSVP=TRUE;CN="The Dyna
 mos":https://vbnightlife.com/profile/TheDynamos
END:VEVENT
END:VCALENDAR
