BEGIN:VCALENDAR
PRODID:NingEventWidget-v1
VERSION:2.0
METHOD:PUBLISH
BEGIN:VEVENT
UID:2508951:Event:10247
DTSTAMP:20260425T173010Z
SUMMARY:THE DELOREAN'S @ H2O
DESCRIPTION:\"The DeLoreans\" have recently been named \"The Hottest 8
 0's show band in the U.S.\". Bringing you hits from the New Wave, Pop 
 and Rock scenes of the 1980's-- complete with two sexy \"chicks\" and 
 a Billy Idol. That, coupled with big lights and sound, flashy costumes
 , and eccentric personality; makes for a \"totally awesome\" trip back
  in time!\n\n10PM\n\nFor more information visit https://vbnightlife.co
 m/events/the-deloreans-h2o
DTSTART:20090404T040000Z
DTEND:20090405T035900Z
CATEGORIES:band
LOCATION:H2O
WEBSITE:
URL:
CONTACT:
ORGANIZER:H20
ATTACH;FMTTYPE="image/jpeg":http://storage.ning.com/topology/rest/1.0/
 file/get/1664072482?profile=original
ATTENDEE;ROLE=REQ-PARTICIPANT;PARTSTAT=ACCEPTED;RSVP=TRUE;CN="Nicole M
 axino":https://vbnightlife.com/profile/NicoleMaxino
END:VEVENT
END:VCALENDAR
