BEGIN:VCALENDAR
PRODID:NingEventWidget-v1
VERSION:2.0
METHOD:PUBLISH
BEGIN:VEVENT
UID:2508951:Event:33168
DTSTAMP:20260421T072127Z
SUMMARY:The Day the Stars Came Out
DESCRIPTION:Join Samaritan House and Hampton Road's finest belly dance
 rs for the 9th annual \"The Day the Stars Came Out\". The event is a c
 elebration of women, for women and proceeds will benefit victims of do
 mestic violence.\n\nSamaritan House would like to thank our host, Ursu
 la Hart.\nFor a ticket order form, please visit www.dance-ursula-dance
 .com.\n\nTickets may be purchased in advance or the day of.\n* Tickets
  available for purchase at Azar's (Va Beach location) and Samaritan Ho
 use\n* Prices prior to the day of are $15 each for adults (buy 4, get 
 one free) and $10 for children\n* If purchased the day of event, price
 s are $20 for adults and $15 for children 12 years of age and under\n\
 nDoors open at 12:30 and the show begins at 1:00.\n\nFor more informat
 ion visit https://vbnightlife.com/events/the-day-the-stars-came-out
DTSTART:20100321T163000Z
DTEND:20100321T183000Z
CATEGORIES:fundraiser
LOCATION:Kempsville Recreation Center
WEBSITE:http://www.dance-ursula-dance.com
URL:http://www.dance-ursula-dance.com
CONTACT:
ORGANIZER:Samaritan House
ATTACH;FMTTYPE="image/jpeg":http://storage.ning.com/topology/rest/1.0/
 file/get/1664106115?profile=original
ATTENDEE;ROLE=REQ-PARTICIPANT;PARTSTAT=ACCEPTED;RSVP=TRUE;CN="Alan Boy
 nton":https://vbnightlife.com/profile/AlanBoynton
END:VEVENT
END:VCALENDAR
