BEGIN:VCALENDAR
PRODID:NingEventWidget-v1
VERSION:2.0
METHOD:PUBLISH
BEGIN:VEVENT
UID:2508951:Event:313032
DTSTAMP:20260422T121309Z
SUMMARY:The Boneshakers, The Romantics, The Smithereens & The Motels a
 t 5th Street Stage
DESCRIPTION:3:15 PM – 4:15 PM The Boneshakers at 5th Street Main St
 age\n4:30 PM – 5:30 PM Coastal Edge Miss ECSC Semifinals at 5th Str
 eet Main Stage\n5:30 PM – 5:45 PM Giveaways at 5th Street Main Stag
 e\n5:45 PM – 6:45 PM Shawn Own at 5th Street Main Stage\n7 PM – 8
 :15 PM Right On Band at 5th Street Main Stage\n8:30 PM – 10:30 PM V
 ans Presents the Rock of the 80’s Tour featuring The Romantics, The 
 Smithereens, and The Motels at 5th Street Main Stage\n  \n celebra
 tion of the East Coast Surfing Championships!\n\nFor more information 
 visit https://vbnightlife.com/events/the-boneshakers-the-romantics-the
 -smithereens-the-motels-at-5th-s
DTSTART:20150822T191500Z
DTEND:20150823T020000Z
CATEGORIES:"events in virginia beach", "east coast surfing championshi
 ps", "events in hampton roads", "things to do"
LOCATION:5th Street Stage at the Oceanfront
WEBSITE:
URL:
CONTACT:
ORGANIZER:VBnightlife.com / vbdaylife / East Coast Surfing Championshi
 ps
ATTACH;FMTTYPE="image/jpeg":
ATTENDEE;ROLE=REQ-PARTICIPANT;PARTSTAT=ACCEPTED;RSVP=TRUE;CN="VBnightl
 ife.com":https://vbnightlife.com/profile/admin
END:VEVENT
END:VCALENDAR
