BEGIN:VCALENDAR
PRODID:NingEventWidget-v1
VERSION:2.0
METHOD:PUBLISH
BEGIN:VEVENT
UID:2508951:Event:315547
DTSTAMP:20260422T132305Z
SUMMARY:THE BONESHAKERS AT 7TH STREET STAGE
DESCRIPTION:Alternative Rock from the 80s, 90s and more!\n\nThe Bonesh
 akers formed in November 1984 in Virginia Beach, Virginia. Guitarist D
 avid Paranzino teamed up with singer/keyboardist Hall Vought, Mark Wat
 ts on drums, and Steve Sistrunk on bass. Paranzino, Vought and Watts h
 ave been the core of the group ever since, going through about a dozen
  bass players. Brian Hinson replaced Steve Sistrunk for \"Oh, So Black
 \". Drummer Bruce Crump of Molly Hatchet filled in for Watts in the mi
 d nineties. \n\nFree Admission \n \nWe are turning back the clock\n
 \nThis is a  full on re-creation of one of Virginia Beach, VA's best 
 original bands.\n\nStarting at 7PM ON THE STAGE BETWEEN CHIX SEAGRILL 
 AND MAHI MAHS\n \nThe Boneshakers!    \n\nAlternative Rock from the
  80s, 90s and more!\nThey have given us so much entertainment over the
  years, lets get all the people out from hiding and support this group
 .\nPlease invite your friends that rocked with The Boneshakers back in
  the 80s!\nCome out and Dance!\nListen to their music here: http://th
 eboneshakers.webs.com/music\nThe Boneshakers gave an incredible perfor
 mannce at the Michael Overcash Benefit.  See Nancy Balogh's Photos 
 here: http://vbnightlife.com/photo/albums/benefit-tribute-to-michael-
 overcash-jewish-mother-by-nancy-balogh\n \n\nVisit the Boneshakers on
  the web here: http://theboneshakers.webs.com/\n\n\n\n SPREAD THE WOR
 D!!\n\n\nFor more information visit https://vbnightlife.com/events/the
 -boneshakers-at-7th-street-stage
DTSTART:20150919T230000Z
DTEND:20150920T030000Z
CATEGORIES:"live music", "things to do in virginia beach", vbnightlife
LOCATION:7TH STREET STAGE AT THE BEACH
WEBSITE:
URL:
CONTACT:
ORGANIZER:VBnightlife.com / vbdaylife
ATTACH;FMTTYPE="image/jpeg":http://storage.ning.com/topology/rest/1.0/
 file/get/1664289057?profile=original
ATTENDEE;ROLE=REQ-PARTICIPANT;PARTSTAT=ACCEPTED;RSVP=TRUE;CN="VBnightl
 ife.com":https://vbnightlife.com/profile/admin
END:VEVENT
END:VCALENDAR
