BEGIN:VCALENDAR
PRODID:NingEventWidget-v1
VERSION:2.0
METHOD:PUBLISH
BEGIN:VEVENT
UID:2508951:Event:301103
DTSTAMP:20260422T192225Z
SUMMARY:The Bodacious Bazaar  Where there is something for everyone
DESCRIPTION:\n A 3 Day Shopping Extravaganza at the Hampton Coliseum\
 n \nThe Bodacious Bazaar The Bodacious Bazaar is an amazing three d
 ay shopping experience featuring over 300 local businesses and vendo
 rs from all over the country at the Hampton Roads Convention Center. 
 There is literally something for everyone with  talented artists, cr
 afters and local businesses such as jewelry, handbags, creative gifts
  for everyone in your family including your pets! A  percentage of 
  proceeds of every ticket sold is donated to local charities. The fa
 ll show is just the place to find the perfect unique and quality Chris
 tmas gift.  For details visit: http://bodaciousbazaar.com/fall/\n\n
 SEE THE COMPLETE VENDOR LIST HERE: http://bodaciousbazaar.com/fall/ve
 ndors-2/\n\nWHEN:  November 14th & 15th 10am to 7 pm November 16th 10
  am to 6pm\n\nTICKETS:\nAdult $7 one day\n$10 two days\nChildren $4\nC
 hildren in Strollers FREE\nIf you donate to the Red Cross Blood drive 
 anywhere in the 7 city area this week,  you will get a FREE 3 day pas
 s!  The blood bank will be at the show as well\n\nThis event is more 
 than just a great way to shop, it’s a great way to give back by supp
 orting local charities. \n\nSee the Bodacious Bazaar on The Hampton R
 oads Show here: http://wavy.com/2014/11/10/audience-bodacious-bazaar-
 charities/\n\n\nFor more information visit https://vbnightlife.com/eve
 nts/the-bodacious-bazaar-where-there-is-something-for-everyone
DTSTART:20141116T050000Z
DTEND:20141117T045900Z
CATEGORIES:"holiday shopping", "bodacious bazaar"
LOCATION:Hampton Convention Center
WEBSITE:
URL:
CONTACT:
ORGANIZER:VBnightlife.com / VBdaylife.com /NorfolkNightlife
ATTACH;FMTTYPE="image/jpeg":http://storage.ning.com/topology/rest/1.0/
 file/get/1664254180?profile=original
ATTENDEE;ROLE=REQ-PARTICIPANT;PARTSTAT=ACCEPTED;RSVP=TRUE;CN="VBnightl
 ife.com":https://vbnightlife.com/profile/admin
END:VEVENT
END:VCALENDAR
