BEGIN:VCALENDAR
PRODID:NingEventWidget-v1
VERSION:2.0
METHOD:PUBLISH
BEGIN:VEVENT
UID:2508951:Event:208632
DTSTAMP:20260423T120744Z
SUMMARY:The 11th Annual Fair Trade Festival
DESCRIPTION:The 11th Annual Fair Trade Festival is going to beheld on 
 December 1st at Seatack Elementary School (912 South Birdneck Road, Vi
 rginia Beach) from 10am to 6pm. The Seatack Elementary Go Green Club w
 ill be sponsoring this event. The Fair Trade Festival offers guilt fre
 e shopping as every product must be made under fair wage and fair labo
 r standards. Even local crafters and artists must use fair trade or re
 cycled/upcycled pieces and partswhen making their products. Fair Trade
  Chocolate, Coffee, Crafts, Jewelry, Accessories, Textiles and more wi
 ll be available at this event. There will also be music and dancing th
 roughout the day. Many of the vendors will be donating products for a 
 raffle to benefit the Seatack Elementary Go Green Club. For vendor an
 d program ad sponsorship information, please visit www.FairTradeFestiv
 alVA.org .Hope to see you there!\n\nFor more information visit https:/
 /vbnightlife.com/events/the-11th-annual-fair-trade-festival
DTSTART:20121201T150000Z
DTEND:20121201T230000Z
CATEGORIES:fair, trade, festival
LOCATION:Seatack Elementary School
WEBSITE:http://www.FairTradeFestivalVA.org
URL:http://www.FairTradeFestivalVA.org
CONTACT:
ORGANIZER:Eco Maniac Company
ATTACH;FMTTYPE="image/jpeg":http://storage.ning.com/topology/rest/1.0/
 file/get/1664182548?profile=original
ATTENDEE;ROLE=REQ-PARTICIPANT;PARTSTAT=ACCEPTED;RSVP=TRUE;CN="Rolan St
 ears":https://vbnightlife.com/profile/RolanStears
ATTENDEE;ROLE=REQ-PARTICIPANT;PARTSTAT=ACCEPTED;RSVP=TRUE;CN="Shanell 
 Williams":https://vbnightlife.com/profile/ShanellWilliams
ATTENDEE;ROLE=REQ-PARTICIPANT;PARTSTAT=TENTATIVE;RSVP=TRUE;CN="Daniela
  Gaudino":https://vbnightlife.com/profile/DanielaGaudino
END:VEVENT
END:VCALENDAR
