BEGIN:VCALENDAR
PRODID:NingEventWidget-v1
VERSION:2.0
METHOD:PUBLISH
BEGIN:VEVENT
UID:2508951:Event:318797
DTSTAMP:20260424T033208Z
SUMMARY:THANKSGIVING EVE BLOW OUT AT EAGLES NEST
DESCRIPTION:\nYall showed us you loved it last year and we are bringin
 g one of the BIGGEST parties back again this year!!! The Cody Austin B
 and, Cheap Thrills and DJ Canrock, all on the SAME STAGE!!! Bring your
  family and friends and let's celebrate!!!!\n\nFor more information vi
 sit https://vbnightlife.com/events/thanksgiving-eve-blow-out-at-eagles
 -nest
DTSTART:20151126T020000Z
DTEND:20151126T021500Z
CATEGORIES:"things to do in virginia beach", "thanksgiving eve"
LOCATION:Eagles Nest Rockin' Country Bar
WEBSITE:
URL:
CONTACT:
ORGANIZER:Eagle's Nest Rockin' Country Bar
ATTACH;FMTTYPE="image/jpeg":http://storage.ning.com/topology/rest/1.0/
 file/get/1664292331?profile=original
ATTENDEE;ROLE=REQ-PARTICIPANT;PARTSTAT=ACCEPTED;RSVP=TRUE;CN="VBnightl
 ife.com":https://vbnightlife.com/profile/admin
END:VEVENT
END:VCALENDAR
