BEGIN:VCALENDAR
PRODID:NingEventWidget-v1
VERSION:2.0
METHOD:PUBLISH
BEGIN:VEVENT
UID:2508951:Event:318918
DTSTAMP:20260424T033120Z
SUMMARY:THANKSGIVING EVE 80s / 90s Dance Party
DESCRIPTION:\nOur annual Thanksgiving Eve 80's party just got even bet
 ter - throwing in mad jams from the 90's!! Grab your homies, get that 
 outfit lookin totally rad or super fly, and come party in the Attic wi
 th us! $5 Crushes, free late-night Turkey sammies, and DJ Larry D + DJ
  Saint James will be spinnin all the O.G. songs with music videos on t
 he big screen. This shiznit is gonna be dope. You down?\n\nFor more in
 formation visit https://vbnightlife.com/events/thanksgiving-eve-80s-90
 s-dance-party
DTSTART:20151126T020000Z
DTEND:20151126T021500Z
CATEGORIES:"thanksgiving eve events", "things to do in virginia beach"
 , "waterman's"
LOCATION:WATERMAN'S ATTIC
WEBSITE:
URL:
CONTACT:
ORGANIZER:Waterman's
ATTACH;FMTTYPE="image/jpeg":http://storage.ning.com/topology/rest/1.0/
 file/get/1664290906?profile=original
ATTENDEE;ROLE=REQ-PARTICIPANT;PARTSTAT=ACCEPTED;RSVP=TRUE;CN="Rolan St
 ears":https://vbnightlife.com/profile/RolanStears
ATTENDEE;ROLE=REQ-PARTICIPANT;PARTSTAT=ACCEPTED;RSVP=TRUE;CN="VBnightl
 ife.com":https://vbnightlife.com/profile/admin
END:VEVENT
END:VCALENDAR
