BEGIN:VCALENDAR
PRODID:NingEventWidget-v1
VERSION:2.0
METHOD:PUBLISH
BEGIN:VEVENT
UID:2508951:Event:189092
DTSTAMP:20260423T102322Z
SUMMARY:Teens With a Purpose benefit concert sponsored by VBnightlife
DESCRIPTION:\nCome listen to live music during the Teens with a Purpos
 e benefit concert. Soul, Hip-Hop, Acoustic Guitar, and Jazz. You name 
 it, the young talent in Music Made Simple plays it all to perfection!\
 n$10 per person or a pair of tickets for $15\nElements of Waterside 33
 3 Waterside Drive\nDowntown Norfolk\nSunday, Feb. 26, 2012\n5pm - Unti
 l\n\nFor more information visit https://vbnightlife.com/events/teens-w
 ith-a-purpose-benefit-concert
DTSTART:20120226T220000Z
DTEND:20120227T030000Z
CATEGORIES:benefit, concert
LOCATION:Elements of Waterside
WEBSITE:
URL:
CONTACT:
ORGANIZER;CN="VBnightlife.com":https://vbnightlife.com/profile/admin
ATTACH;FMTTYPE="image/jpeg":http://storage.ning.com/topology/rest/1.0/
 file/get/1664159537?profile=original
ATTENDEE;ROLE=REQ-PARTICIPANT;PARTSTAT=ACCEPTED;RSVP=TRUE;CN="VBnightl
 ife.com":https://vbnightlife.com/profile/admin
END:VEVENT
END:VCALENDAR
