BEGIN:VCALENDAR
PRODID:NingEventWidget-v1
VERSION:2.0
METHOD:PUBLISH
BEGIN:VEVENT
UID:2508951:Event:292824
DTSTAMP:20260422T164205Z
SUMMARY:Teens With a Purpose benefit concert sponsored by VBnightlife
DESCRIPTION:Experience the unique sounds of pop, jazz, rock, hip hop, 
 R&B and indie arrangements with featured solo and group performances i
 ncluding spoken word poetry and interpretive dance combined into one m
 usical vignette  that is guaranteed to please everyone!  \n\n\n\nCon
 cert includes:  Hampton Roads Youth Poets, Music Made Simple, guest m
 usicians from the bands Suburban Sunday plus special guest locally acc
 laimed \n\n\nThe Fuzz Band! http://www.thefuzzband.com/the-fuzz-band
 /\n\n\n\nCome early to enjoy the per-concert reception at 6pm sponsore
 d by:  VBnightlife, Geico, The Virginia Beach Arts & Humanities Comm
 ission and Africana Virginia Beach\n\nAfricana Festival '14\n\n\nThe J
 ust AART Concert offers hope! Too many young people feel they do not h
 ave power over the story that dominates their lives, the power to rete
 ll it, rethink it, deconstruct it and change it as times change, becau
 se they cannot imagine a bright future. This experience will offer the
 m the opportunity to share their experience as they offer hope to one 
 another through artistic expression! Please help make it all possible!
 \n\n\nJust Aart Concert Tickets\nPURCHASE HERE\n\nVISIT TEENS WITH A P
 URPOSE WEBSITE HERE\n\n\nFor more information visit https://vbnightlif
 e.com/events/teens-with-a-purpose-benefit-concert-sponsored-by-vbnight
 life
DTSTART:20140821T220000Z
DTEND:20140822T010000Z
CATEGORIES:benefit, concert
LOCATION:VIRGINIA MUSEUM OF CONTEMPORARY ART
WEBSITE:
URL:
CONTACT:
ORGANIZER;CN="VBnightlife.com":https://vbnightlife.com/profile/admin
ATTACH;FMTTYPE="image/jpeg":http://storage.ning.com/topology/rest/1.0/
 file/get/1664159537?profile=original
ATTENDEE;ROLE=REQ-PARTICIPANT;PARTSTAT=ACCEPTED;RSVP=TRUE;CN="VBnightl
 ife.com":https://vbnightlife.com/profile/admin
END:VEVENT
END:VCALENDAR
