BEGIN:VCALENDAR
PRODID:NingEventWidget-v1
VERSION:2.0
METHOD:PUBLISH
BEGIN:VEVENT
UID:2508951:Event:311305
DTSTAMP:20260425T074731Z
SUMMARY:TEEN TAKEOVER AT THE MOCA
DESCRIPTION: 7-9 PM FREE EVENT\n\nCome prim and proper or dress as a 
 punk rocker for a modern twist on an old-fashioned tea party!  Hampton
  Roads teens take over the MOCA for an evening extravaganza of art, mu
 sic, mocktails, free eats.   Teen Takeover is a free event exclusivel
 y for teens in middle and high school, hosted by students from Virgini
 a Beach schools.  For additional information, call 757-425-0000 ext. 3
 29\n\n or e-mail Amanda@virginiaMOCA.org \n\n\nFor more information 
 visit https://vbnightlife.com/events/teen-takeover-at-the-moca-1
DTSTART:20150625T230000Z
DTEND:20150626T010000Z
CATEGORIES:"teen event", "\"moca"
LOCATION:MOCA - Museum of Contemporary ARt
WEBSITE:
URL:
CONTACT:
ORGANIZER:VBnightlife.com / vbdaylife
ATTACH;FMTTYPE="image/jpeg":http://storage.ning.com/topology/rest/1.0/
 file/get/1664235144?profile=original
ATTENDEE;ROLE=REQ-PARTICIPANT;PARTSTAT=ACCEPTED;RSVP=TRUE;CN="Rolan St
 ears":https://vbnightlife.com/profile/RolanStears
ATTENDEE;ROLE=REQ-PARTICIPANT;PARTSTAT=ACCEPTED;RSVP=TRUE;CN="VBnightl
 ife.com":https://vbnightlife.com/profile/admin
END:VEVENT
END:VCALENDAR
