BEGIN:VCALENDAR
PRODID:NingEventWidget-v1
VERSION:2.0
METHOD:PUBLISH
BEGIN:VEVENT
UID:2508951:Event:161939
DTSTAMP:20260423T073341Z
SUMMARY:TAX-FREE WEEKEND!
DESCRIPTION:It's that time again, and in preparation for the upcoming 
 school year, the great Commonwealth of Virginia is offering us a Tax H
 oliday to help you get your family back to school with a thicker walle
 t!\nÂ \nAugust Sales Tax Holiday: School Supplies and Clothing\nWhen:Â
  First full weekend of August (Friday, Saturday and Sunday) each year.
  The 2011 holiday will take place on August 5-7,Â 2011.\nWhat's Exempt
 :Â During this three-day period, purchases of qualifying school suppli
 es selling for $20 or less per item, and purchases of qualifying cloth
 ing and footwear selling for $100 or less per item will be exempt from
  sales tax. Retailers may also choose to absorb the tax on other items
  during the holiday period, but they are responsible for paying the ta
 x on those items to the Department of Taxation.\nOther Information:\n\
 nGuidelines\nFrequently Asked Questions\nLists of Exempt School Suppli
 esÂ and Exempt Clothing and Footwear\nTax Holiday Information Center\n
 \nConsider shopping here for your kids' new wardrobe:\n\n\nFor more in
 formation visit https://vbnightlife.com/events/tax-free-weekend
DTSTART:20110807T040000Z
DTEND:20110808T035900Z
CATEGORIES:"virginia beach family fun", "virginia beach shopping", "ba
 ck to school", "tax holiday"
LOCATION:All Across Virginia
WEBSITE:
URL:
CONTACT:
ORGANIZER:VBnightlife.com / VBdaylife.com / NorfolkNightlife.com
ATTACH;FMTTYPE="image/jpeg":http://storage.ning.com/topology/rest/1.0/
 file/get/1664145284?profile=original
ATTENDEE;ROLE=REQ-PARTICIPANT;PARTSTAT=ACCEPTED;RSVP=TRUE;CN="Rolan St
 ears":https://vbnightlife.com/profile/RolanStears
ATTENDEE;ROLE=REQ-PARTICIPANT;PARTSTAT=ACCEPTED;RSVP=TRUE;CN="VBnightl
 ife.com":https://vbnightlife.com/profile/admin
END:VEVENT
END:VCALENDAR
