BEGIN:VCALENDAR
PRODID:NingEventWidget-v1
VERSION:2.0
METHOD:PUBLISH
BEGIN:VEVENT
UID:2508951:Event:39838
DTSTAMP:20260425T074118Z
SUMMARY:Tailgate with Tomlin Event
DESCRIPTION:TICKETS NOW ON SALE!!!! Tailgate With Tomlin event hosted 
 by the Hampton Roads Youth Foundation. Mark your calendars and get the
  party started July 8th with the \"Tailgate Party with Tomlin\" as pha
 se one of events happening July 8th-10th. Several of the 22 expected p
 layers are already confirming for the Tailgate, Youth Camp & Bowling P
 arty.\n\n1. Aaron Brooks, former New Orleans Saints\n2. Aaron Rouse, f
 ormer New York Giants\n3. Antoine Bethea, Indianapolis Colts\n4. Arthu
 r Moats, Buffalo Bills\n5. Chris Ellis, Buffalo Bills\n6. Darryl Tapp,
  Philadelphia Eagles\n7. DeAngelo Hall, Washington Redskins\n8. Demetr
 ius Taylor, Pittsburgh Steelers\n9. Don Carey, Jacksonville Jaguars\n1
 0. Dwight Hollier, former Miami Dolphins\n11. Eddie Royal, Denver Bron
 cos\n12. Elton Brown, former Arizona Cardinals\n13. Kam Chancellor, Se
 attle Seahawks\n14. Kwamie Lassiter, former Arizona Cardinals\n15. Jer
 od Mayo, New England Patriots\n16. Marques Hagans, Washington Redskins
 \n17. Marvin Mitchell, New Orleans Saints\n18. Michael Vick, Philadelp
 hia Eagles\n19. Percy Harvin, Minnesota Vikings\n20. Scotty McGee, Jac
 ksonville Jaguars\n21. Terrell Whitehead, Jacksonville Jaguars\n22. To
 dd Kelly, former San Francisco 49ers\n\nContact me directly for ticket
 s via cell phone (240-447-3895) and visit my FACEBOOK for more details
  on both events. (http://www.facebook.com/home.php?sk=lf#!/profile.php
 ?id=719262036)\n\nAlso review the link to the interview by Coach Tomli
 n. (Phase 2: NFL Bowling Party July 10th)\n\nFor more information visi
 t https://vbnightlife.com/events/tailgate-with-tomlin-event
DTSTART:20100708T220000Z
DTEND:20100709T010000Z
CATEGORIES:hampton, roads, youth, foundation, "(fundraiser)"
LOCATION:Hampton Roads Convention Center
WEBSITE:http://www.youtube.com/user/hryf
URL:http://www.youtube.com/user/hryf
CONTACT:240-447-3895
ORGANIZER;CN="Joe Lee":https://vbnightlife.com/profile/JoeLee
ATTACH;FMTTYPE="image/jpeg":http://storage.ning.com/topology/rest/1.0/
 file/get/1664109850?profile=original
ATTENDEE;ROLE=REQ-PARTICIPANT;PARTSTAT=ACCEPTED;RSVP=TRUE;CN="Rolan St
 ears":https://vbnightlife.com/profile/RolanStears
ATTENDEE;ROLE=REQ-PARTICIPANT;PARTSTAT=ACCEPTED;RSVP=TRUE;CN="Joe Lee"
 :https://vbnightlife.com/profile/JoeLee
END:VEVENT
END:VCALENDAR
