BEGIN:VCALENDAR
PRODID:NingEventWidget-v1
VERSION:2.0
METHOD:PUBLISH
BEGIN:VEVENT
UID:2508951:Event:74268
DTSTAMP:20260423T002309Z
SUMMARY:TAILGATE DOWN AT SOUTH BEACH GRILL
DESCRIPTION:TailGate Down is a Southeast Virginia based, high energy c
 ountry rock band. Moving into their 9th year of performing, TailGate D
 own continues to build a strong fan base. With positive feedback from 
 the public regarding their original songs, they continue to write and 
 record whenever possible. They have developed a strong following from 
 Chesapeake through Richmond, Virginia. In a constant effort to keep up
  with the demand of a forever changing industry, the band is very cons
 cious of their live performance and merchandising. With a full crew an
 d production, TailGate Down has the capability of performing just abou
 t anywhere.  Supporting many of the National Acts that come through t
 he region, they continue to receive positive feedback, which is constr
 uctively taken and embraced. While the strong point of the band is the
 ir live performance, they also strive to be vocally sound. With four o
 f the five members being singers, the band is capable of performing fo
 ur part harmony’s. Being self sufficient to this point, TailGate Dow
 n operates on an “in house” basis. All performances are arranged d
 irectly through the band. To contact TailGate Down for bookings or sho
 w dates, please click here....\nTo see our set-list of some of our co
 ver tunes please click here...\n\nFor more information visit https://
 vbnightlife.com/events/tailgate-down-at-south-beach
DTSTART:20120721T040000Z
DTEND:20120722T035900Z
CATEGORIES:band
LOCATION:SOUTH BEACH GRILL
WEBSITE:
URL:
CONTACT:
ORGANIZER;CN="VBnightlife.com":https://vbnightlife.com/profile/admin
ATTACH;FMTTYPE="image/jpeg":http://storage.ning.com/topology/rest/1.0/
 file/get/1664132593?profile=original
ATTENDEE;ROLE=REQ-PARTICIPANT;PARTSTAT=ACCEPTED;RSVP=TRUE;CN="VBnightl
 ife.com":https://vbnightlife.com/profile/admin
ATTENDEE;ROLE=REQ-PARTICIPANT;PARTSTAT=ACCEPTED;RSVP=TRUE;CN="Donna Mc
 Swain Fowler":https://vbnightlife.com/profile/DonnaMcSwainFowler
END:VEVENT
END:VCALENDAR
