BEGIN:VCALENDAR
PRODID:NingEventWidget-v1
VERSION:2.0
METHOD:PUBLISH
BEGIN:VEVENT
UID:2508951:Event:187641
DTSTAMP:20260424T233014Z
SUMMARY:Symphonicity's 13th Annual Lollipop Concert for Children: Carn
 ival of the Animals
DESCRIPTION:\nSymphonicity's 13th Annual Lollipop Concert for Children
 : Carnival of the Animals\nDate: Saturday, January 21, 2012\nTime: 3:0
 0 pm\nWebsite: www.symphonicity.org\nTickets: $5 general admission\n\
 n\n\n\n\n\n\nSymphonicity presents its 13th Annual Lollipop Concert f
 or Children and Families, “Carnival of the Animals.” The Orchestra
  da camera from the Governor’s School for the Arts will perform side
  by side with Symphonicity, including duo pianists Nick and Nick! Ther
 e will be animal displays, our famous Instrument Petting Zoo, face-pai
 nting and tattoos, and musical performances in the lobby. Tickets are 
 $5 general admission at the Sandler Box Office.\n\n\n\n\n\nFor more in
 formation visit https://vbnightlife.com/events/symphonicity
DTSTART:20120121T200000Z
DTEND:20120121T220000Z
CATEGORIES:family, fun
LOCATION:Sandler Center for the Performing Arts
WEBSITE:
URL:
CONTACT:
ORGANIZER;CN="VBnightlife.com":https://vbnightlife.com/profile/admin
ATTACH;FMTTYPE="image/jpeg":http://storage.ning.com/topology/rest/1.0/
 file/get/1664161636?profile=original
ATTENDEE;ROLE=REQ-PARTICIPANT;PARTSTAT=ACCEPTED;RSVP=TRUE;CN="VBnightl
 ife.com":https://vbnightlife.com/profile/admin
END:VEVENT
END:VCALENDAR
