BEGIN:VCALENDAR
PRODID:NingEventWidget-v1
VERSION:2.0
METHOD:PUBLISH
BEGIN:VEVENT
UID:2508951:Event:9111
DTSTAMP:20260425T160048Z
SUMMARY:Symphonicity: Glitter and Be-Jeweled @ The Sandler Center
DESCRIPTION:Symphonicity: Glitter and Be-Jeweled\nDate: Sunday, April 
 5, 2009\nTime: 3:00 pm\nWebsite: www.symphonicity.org\nTickets: $29,$2
 4,$19\n\n\nThis concert will be a romp through the classical and popul
 ar world of music involving jewelry. Soprano Kimberly Markham will sin
 g selections from Faust, Candide, and Agrippina, by Handel. A glitteri
 ng encore will delight the audience.\n\nSymphonicity, the Symphony Orc
 hestra of Virginia Beach, provides a challenging performance experienc
 e for area musicians and fills a need for low cost, quality concerts i
 n the community. The orchestra has over 100 members, who give freely o
 f their time and talents. Membership is composed of retired and active
  symphony players, public school teachers, instructors at and graduate
 s of the Armed Forces School of Music, freelance musicians, private in
 structors and composers, as well as business professionals, homemakers
 , and select high school students. Symphonicity, formerly known as the
  Virginia Beach Symphony Orchestra, was formed in 1981, under the bato
 n of its current Music Director and Conductor, David S. Kunkel. Sympho
 nicity is a resident company at the new Sandler Center for the Perform
 ing Arts in the Town Center of Virginia Beach.\n\nFor more information
  visit https://vbnightlife.com/events/symphonicity-glitter-and
DTSTART:20090405T190000Z
DTEND:20090405T220000Z
CATEGORIES:concert
LOCATION:Sandler Center for Performing Arts
WEBSITE:
URL:
CONTACT:
ORGANIZER:Sandler Center
ATTACH;FMTTYPE="image/jpeg":http://storage.ning.com/topology/rest/1.0/
 file/get/1664070171?profile=original
ATTENDEE;ROLE=REQ-PARTICIPANT;PARTSTAT=ACCEPTED;RSVP=TRUE;CN="Nicole M
 axino":https://vbnightlife.com/profile/NicoleMaxino
END:VEVENT
END:VCALENDAR
