BEGIN:VCALENDAR
PRODID:NingEventWidget-v1
VERSION:2.0
METHOD:PUBLISH
BEGIN:VEVENT
UID:2508951:Event:162342
DTSTAMP:20260423T212350Z
SUMMARY:Swell Ladies Night & Gentlemen get a deal too!  Kevin Mac is p
 erforming 6 to 9!
DESCRIPTION:From 6PM til they close the place down, it's Ladies Night 
 with Specials for the Gentlemen too! \n\nWe have $1.00 Vodka Drinks,
  $2.00 Corona's and $5.00 Martini's!  $5.50 Smash Burgers all day an
 d night!\n \nGentlemen...if you buy the Ladies a drink...you get $1.0
 0 off your drink.  $2.00 Corona's too!  It's a win-win for everyone.
 \n \nKevin Mac is performing from 6 to 9 and then the DJ Markus Mathe
 ws will finish the night off!  We are gonna party all night long fro
 m 6 to close!\n \nWe have Premier Design Jewelry too!   Take a look
  and purchase or book a party!  Great Jewelry at great prices!\n \nW
 e have a few suprises too!  Gotta be there to know what is it is!  S
 ee you there!\n\nFor more information visit https://vbnightlife.com/ev
 ents/swell-ladies-night-gentlemen-get-a-deal-too-kevin-mac-is-performi
DTSTART:20110817T220000Z
DTEND:20110818T034500Z
CATEGORIES:ladies, night, and, men, are, welcome, "too!"
LOCATION:Swell, The Locals Break!
WEBSITE:http://www.facebook.com/profile.php?id=100002122729528
URL:http://www.facebook.com/profile.php?id=100002122729528
CONTACT:(757) 689-3340
ORGANIZER;CN="VBnightlife.com":https://vbnightlife.com/profile/admin
ATTACH;FMTTYPE="image/jpeg":http://storage.ning.com/topology/rest/1.0/
 file/get/1664149921?profile=original
ATTENDEE;ROLE=REQ-PARTICIPANT;PARTSTAT=ACCEPTED;RSVP=TRUE;CN="Fran Har
 ding":https://vbnightlife.com/profile/FranHarding
ATTENDEE;ROLE=REQ-PARTICIPANT;PARTSTAT=ACCEPTED;RSVP=TRUE;CN="VBnightl
 ife.com":https://vbnightlife.com/profile/admin
ATTENDEE;ROLE=REQ-PARTICIPANT;PARTSTAT=TENTATIVE;RSVP=TRUE;CN="Dave Ka
 iktsian":https://vbnightlife.com/profile/DaveKaiktsian
END:VEVENT
END:VCALENDAR
