BEGIN:VCALENDAR
PRODID:NingEventWidget-v1
VERSION:2.0
METHOD:PUBLISH
BEGIN:VEVENT
UID:2508951:Event:167774
DTSTAMP:20260423T211137Z
SUMMARY:Swell has the BEST Ladies Night in town and specials for men t
 oo!  Kevin Mac is performing!
DESCRIPTION:Swell \"The Local's Break\" has the best Ladies Night in t
 own starting at 6 to close!Â  That's right!!!Â  $1.00 VODKA DRINKGS, $
 5.00 MARTINI'S and $2.00 CORONA LITE'S & $5.50 SMASH BURGERS FOR ALL!\
 nÂ \nKevin Mac is performing from 8 to 11!Â  The Ladies love some Kevi
 n Mac and dance the night away!Â  Don't miss it every Wedneday night!\
 nÂ \nWe have Premier Jewelry Design and door prizes too!\nÂ \nSAVE THE
  DATE FOR SEPT. 14TH AS WE ARE LAUNCHING THE SWELL CRUSH FOR AN INTROD
 UCTORY PRICE OF $5.00 AND MUCH MORE.Â  Look for detail on the 14th!\nÂ
  \nVBnightlife is in the house every Wedneday night!Â  See you there!\
 n\nFor more information visit https://vbnightlife.com/events/swell-has
 -the-best-ladies-night-in-town-and-specials-for-men-too-
DTSTART:20110907T220000Z
DTEND:20110908T034500Z
CATEGORIES:ladies, night, and, men, are, welcome, "too!"
LOCATION:Swell, \"The Local's Break\"
WEBSITE:http://www.facebook.com/profile.php?id=100002122729528
URL:http://www.facebook.com/profile.php?id=100002122729528
CONTACT:(757) 689-3340
ORGANIZER;CN="VBnightlife.com":https://vbnightlife.com/profile/admin
ATTACH;FMTTYPE="image/jpeg":http://storage.ning.com/topology/rest/1.0/
 file/get/1664152068?profile=original
ATTENDEE;ROLE=REQ-PARTICIPANT;PARTSTAT=ACCEPTED;RSVP=TRUE;CN="AGNES RO
 BERTA AGNER":https://vbnightlife.com/profile/AGNESROBERTAAGNER
ATTENDEE;ROLE=REQ-PARTICIPANT;PARTSTAT=ACCEPTED;RSVP=TRUE;CN="VBnightl
 ife.com":https://vbnightlife.com/profile/admin
END:VEVENT
END:VCALENDAR
