BEGIN:VCALENDAR
PRODID:NingEventWidget-v1
VERSION:2.0
METHOD:PUBLISH
BEGIN:VEVENT
UID:2508951:Event:50494
DTSTAMP:20260420T072753Z
SUMMARY:SURF & SKATE SAMPLE SALE THIS SATURDAY!!!!!
DESCRIPTION:\n\nFor more information visit https://vbnightlife.com/eve
 nts/surf-skate-sample-sale-this
DTSTART:20101016T130000Z
DTEND:20101016T180000Z
CATEGORIES:sale, surf
LOCATION:Sole Brothers Surf and Skate
WEBSITE:
URL:
CONTACT:
ORGANIZER;CN="VBnightlife.com":https://vbnightlife.com/profile/admin
ATTACH;FMTTYPE="image/jpeg":http://storage.ning.com/topology/rest/1.0/
 file/get/1664120687?profile=original
ATTENDEE;ROLE=REQ-PARTICIPANT;PARTSTAT=ACCEPTED;RSVP=TRUE;CN="VBnightl
 ife.com":https://vbnightlife.com/profile/admin
END:VEVENT
END:VCALENDAR
