BEGIN:VCALENDAR
PRODID:NingEventWidget-v1
VERSION:2.0
METHOD:PUBLISH
BEGIN:VEVENT
UID:2508951:Event:29844
DTSTAMP:20260422T061043Z
SUMMARY:SUPERBOWL PARTY AT WATERMANS
DESCRIPTION:Dinner and Open Bar 5 to 10\nHosted by Kevin Cunningham an
 d Paul Van Auken\n$35 per person\n\nCall Kevin at 724 0083 or Paul at 
 739 0112 to get your tickets\n\nProceeds to benefit JTs Grommet Island
  Beach Park\n\nFor more information visit https://vbnightlife.com/even
 ts/superbowl-party-at-watermans
DTSTART:20100207T220000Z
DTEND:20100208T040000Z
CATEGORIES:fundraiser
LOCATION:Watermans
WEBSITE:
URL:
CONTACT:
ORGANIZER;CN="VBnightlife.com":https://vbnightlife.com/profile/admin
ATTACH;FMTTYPE="image/jpeg":http://storage.ning.com/topology/rest/1.0/
 file/get/1664103023?profile=original
ATTENDEE;ROLE=REQ-PARTICIPANT;PARTSTAT=ACCEPTED;RSVP=TRUE;CN="VBnightl
 ife.com":https://vbnightlife.com/profile/admin
END:VEVENT
END:VCALENDAR
