BEGIN:VCALENDAR
PRODID:NingEventWidget-v1
VERSION:2.0
METHOD:PUBLISH
BEGIN:VEVENT
UID:2508951:Event:188209
DTSTAMP:20260421T064749Z
SUMMARY:SUPERBOWL PARTY AT SOUTH BEACH GRILL
DESCRIPTION:Fabulous Free half-time buffet!\nDRINK SPECIALS\n10 FOOT S
 CREEN \n 5-10PM\n\nFor more information visit https://vbnightlife.co
 m/events/superbowl-party-at-south-beach-grill
DTSTART:20120205T220000Z
DTEND:20120206T030000Z
CATEGORIES:superbowl
LOCATION:Virginia Beach
WEBSITE:
URL:
CONTACT:
ORGANIZER;CN="VBnightlife.com":https://vbnightlife.com/profile/admin
ATTACH;FMTTYPE="image/jpeg":http://storage.ning.com/topology/rest/1.0/
 file/get/1664159516?profile=original
ATTENDEE;ROLE=REQ-PARTICIPANT;PARTSTAT=ACCEPTED;RSVP=TRUE;CN="VBnightl
 ife.com":https://vbnightlife.com/profile/admin
END:VEVENT
END:VCALENDAR
