BEGIN:VCALENDAR
PRODID:NingEventWidget-v1
VERSION:2.0
METHOD:PUBLISH
BEGIN:VEVENT
UID:2508951:Event:181037
DTSTAMP:20260420T121724Z
SUMMARY:SUPER ADOPT - A - THON
DESCRIPTION:\n\nFor more information visit https://vbnightlife.com/eve
 nts/super-adopt-a-thon
DTSTART:20111112T150000Z
DTEND:20111112T210000Z
CATEGORIES:fundraiser
LOCATION:Church of the Holy Family
WEBSITE:
URL:
CONTACT:
ORGANIZER:VBnightlife.com / VBdaylife.com
ATTACH;FMTTYPE="image/jpeg":http://storage.ning.com/topology/rest/1.0/
 file/get/1664158856?profile=original
ATTENDEE;ROLE=REQ-PARTICIPANT;PARTSTAT=ACCEPTED;RSVP=TRUE;CN="VBnightl
 ife.com":https://vbnightlife.com/profile/admin
END:VEVENT
END:VCALENDAR
