BEGIN:VCALENDAR
PRODID:NingEventWidget-v1
VERSION:2.0
METHOD:PUBLISH
BEGIN:VEVENT
UID:2508951:Event:203402
DTSTAMP:20260422T150444Z
SUMMARY:SUNSET ON SUMMER BLOW-OUT CONCERT
DESCRIPTION:\n\nFor more information visit https://vbnightlife.com/eve
 nts/sunset-on-summer-blow-out-concert
DTSTART:20120909T170000Z
DTEND:20120909T220000Z
CATEGORIES:fundraiser, surfing
LOCATION:MARIO'S ITALIAN RESTAURANT
WEBSITE:
URL:
CONTACT:
ORGANIZER:VBnightlife.com / VBdaylife.com / norfolkNightlife.com
ATTACH;FMTTYPE="image/jpeg":http://storage.ning.com/topology/rest/1.0/
 file/get/1664181508?profile=original
ATTENDEE;ROLE=REQ-PARTICIPANT;PARTSTAT=ACCEPTED;RSVP=TRUE;CN="VBnightl
 ife.com":https://vbnightlife.com/profile/admin
END:VEVENT
END:VCALENDAR
