BEGIN:VCALENDAR
PRODID:NingEventWidget-v1
VERSION:2.0
METHOD:PUBLISH
BEGIN:VEVENT
UID:2508951:Event:17449
DTSTAMP:20260421T043526Z
SUMMARY:\"Sunset at the Beach\"
DESCRIPTION:Sunset at the Beach is the Event of the Summer! It is a Se
 mi-formal Event , this is our 2nd Annual, last year we had over 220 Vi
 rginia Beach Locals..Standing up for Cancer and the Research of Lympho
 mas, Leukemia and Myeloma. All proceeds Go to UVA Top Research Team fo
 r Cancer. This is a night you will look forward to every year, Don't m
 iss out!\n\nCome Walk the Red Carpet with Photographers!\n\nChef's Car
 ving Stations, Buffet, Desserts!\n\nCash Bars, Silent Auction, Raffles
 , Door Prizes!\n\nBeautiful views on the Bay, we also have the entire 
 Tradewinds Restaurant closed for us, and decks leading to the Beach!\n
 \nA Magical Night, a huge reunion of Locals! Come be apart of the Answ
 er, support Cancer Research! We need you!\n\nFor more information visi
 t https://vbnightlife.com/events/sunset-at-the-beach
DTSTART:20090822T230000Z
DTEND:20090823T040000Z
CATEGORIES:cancer, "fundraiser/party"
LOCATION:Virginia Beach Resort and Conference Center
WEBSITE:
URL:
CONTACT:757-236-0892 Call Beth for Tickets or Questions!
ORGANIZER;CN="Beth Dickey":https://vbnightlife.com/profile/BethDickey
ATTACH;FMTTYPE="image/jpeg":
ATTENDEE;ROLE=REQ-PARTICIPANT;PARTSTAT=ACCEPTED;RSVP=TRUE;CN="Rolan St
 ears":https://vbnightlife.com/profile/RolanStears
ATTENDEE;ROLE=REQ-PARTICIPANT;PARTSTAT=ACCEPTED;RSVP=TRUE;CN="Beth Dic
 key":https://vbnightlife.com/profile/BethDickey
END:VEVENT
END:VCALENDAR
