BEGIN:VCALENDAR
PRODID:NingEventWidget-v1
VERSION:2.0
METHOD:PUBLISH
BEGIN:VEVENT
UID:2508951:Event:9972
DTSTAMP:20260425T142711Z
SUMMARY:SUNDAY'S BAND / EVENTS LISTING
DESCRIPTION:Cabo Cafe - ANTHONY PAUL'S MUSIC PAGE\nCentral 111 - DJ AD
 D4RIGHT\nChrysler Hall - Norfolk \"STEVEN CURTIS CHAPMAN\" + \"MICHAEL
  W SMITH\"\nHK ON THE BAY - PERFORMERS NIGHT OUT - THE SOUL HAVEN PROJ
 ECT\nJewish Mother - VB \"HAMPTON ROADS YOUTH GUITAR ENSEMBLE\"\nKnuck
 leheads - VB \"THE RIVER BOYZ\nMurphy's Irish Pub - VB \"KARL WERNE\nS
 outh Beach Grill - NATURE'S CHILD (REGGAE AMBASSADORS)\n\nFor more inf
 ormation visit https://vbnightlife.com/events/sundays-band-events-list
 ing-7
DTSTART:20090405T220000Z
DTEND:20090405T230000Z
CATEGORIES:bands, dj
LOCATION:Virginia Beach
WEBSITE:
URL:
CONTACT:
ORGANIZER;CN="Nicole Maxino":https://vbnightlife.com/profile/NicoleMax
 ino
ATTACH;FMTTYPE="image/jpeg":http://storage.ning.com/topology/rest/1.0/
 file/get/1664070160?profile=original
ATTENDEE;ROLE=REQ-PARTICIPANT;PARTSTAT=ACCEPTED;RSVP=TRUE;CN="Nicole M
 axino":https://vbnightlife.com/profile/NicoleMaxino
END:VEVENT
END:VCALENDAR
