BEGIN:VCALENDAR
PRODID:NingEventWidget-v1
VERSION:2.0
METHOD:PUBLISH
BEGIN:VEVENT
UID:2508951:Event:8503
DTSTAMP:20260425T160740Z
SUMMARY:SUNDAY'S BAND / EVENTS LISTING
DESCRIPTION:Abbey Road - BERNIE LEE\nHalf Shell- IMG & YOUNG OMEGA PRE
 SENTS :VA'S FINEST\nKnuckleheads- CHASING CORONA (Officer Beach Benefi
 t)\nMurphy's Irish Pub -JOHN ICKES 12-4; DON BUNCH 4-9; JESSE CHONG 10
 -2\nOhanas- KEVIN MAC\nSouth Beach Grill -DKR BAND (DAVE, KATE, ROSS &
  BILLY)\nUltra Lounge - JOSH LONDON\n\nOUTDOOR EVENTS\n** SHAMROCK MAR
 ATHON **\n* FINISH LINE PARTY * BORDERLINE CRAZY 9am-12pm + SNACKBAR J
 ONES 1-4pm\n\nFor more information visit https://vbnightlife.com/event
 s/sundays-band-events-listing-5
DTSTART:20090322T040000Z
DTEND:20090323T035900Z
CATEGORIES:live, music
LOCATION:Virginia Beach
WEBSITE:
URL:
CONTACT:
ORGANIZER;CN="Nicole Maxino":https://vbnightlife.com/profile/NicoleMax
 ino
ATTACH;FMTTYPE="image/jpeg":http://storage.ning.com/topology/rest/1.0/
 file/get/1664070347?profile=original
ATTENDEE;ROLE=REQ-PARTICIPANT;PARTSTAT=ACCEPTED;RSVP=TRUE;CN="Nicole M
 axino":https://vbnightlife.com/profile/NicoleMaxino
END:VEVENT
END:VCALENDAR
