BEGIN:VCALENDAR
PRODID:NingEventWidget-v1
VERSION:2.0
METHOD:PUBLISH
BEGIN:VEVENT
UID:2508951:Event:6841
DTSTAMP:20260425T173207Z
SUMMARY:SUNDAY'S BAND / EVENTS LISTING
DESCRIPTION:Abbey Road - BERNIE LEE\nFly n Fishbone - ROBIN KING\nHalf
  Shell - IMG PRESENTS - THE ANIMAL W/ GUESTS\nKeagan's Town Center - K
 ARAOKE\nThe Locals Satellite Sports Grill - AS ONE featuring TERMITE -
  Jazz 8pm $10 461-7554\nMurphy's Irish Pub - KARL WERNE\nNorva - Norfo
 lk \"STEVE KIMOCK & FRIENDS\nSouth Beach Grill - DKR BAND (DAVE, KATE,
  ROSS, BILLY)\n\nFor more information visit https://vbnightlife.com/ev
 ents/sundays-band-events-listing-4
DTSTART:20090308T050000Z
DTEND:20090309T035900Z
CATEGORIES:live, music
LOCATION:Virginia Beach
WEBSITE:
URL:
CONTACT:
ORGANIZER;CN="Nicole Maxino":https://vbnightlife.com/profile/NicoleMax
 ino
ATTACH;FMTTYPE="image/jpeg":http://storage.ning.com/topology/rest/1.0/
 file/get/1664186771?profile=original
ATTENDEE;ROLE=REQ-PARTICIPANT;PARTSTAT=ACCEPTED;RSVP=TRUE;CN="Nicole M
 axino":https://vbnightlife.com/profile/NicoleMaxino
END:VEVENT
END:VCALENDAR
