BEGIN:VCALENDAR
PRODID:NingEventWidget-v1
VERSION:2.0
METHOD:PUBLISH
BEGIN:VEVENT
UID:2508951:Event:293836
DTSTAMP:20260425T202822Z
SUMMARY:SUMMER PIG PICKIN' AT FROGGIES
DESCRIPTION:\n\nFor more information visit https://vbnightlife.com/eve
 nts/summer-pig-pickin-at-froggies
DTSTART:20140831T210000Z
DTEND:20140831T230000Z
CATEGORIES:"pig pickin", "live music", vbnightlife
LOCATION:FROGGIES CANTINA BY THE BAY
WEBSITE:
URL:
CONTACT:
ORGANIZER:VBnightlife.com / vBdaylife.com
ATTACH;FMTTYPE="image/jpeg":http://storage.ning.com/topology/rest/1.0/
 file/get/1664242874?profile=original
ATTENDEE;ROLE=REQ-PARTICIPANT;PARTSTAT=ACCEPTED;RSVP=TRUE;CN="VBnightl
 ife.com":https://vbnightlife.com/profile/admin
END:VEVENT
END:VCALENDAR
