BEGIN:VCALENDAR
PRODID:NingEventWidget-v1
VERSION:2.0
METHOD:PUBLISH
BEGIN:VEVENT
UID:2508951:Event:312146
DTSTAMP:20260424T144826Z
SUMMARY:Summer Magic Family Night at Virginia MOCA
DESCRIPTION:Summer Magic Family Night!\nhttp://virginiamoca.org/summer
 -magic-family-night2\nThursday, July 16th 6-8pm\nExperience the magic 
 of summer with MOCA and magician Rob Westcott. MOCA's fun-filled Famil
 y Night includes a mix of hands-on art activities, a gallery scavenger
  hunt, a photo booth and a brownie bar. Enjoy light refreshments and a
  cash bar for grown-ups. \nMOCA member children age 3 and up $7  Non
 -member Children age 3 and up $10 Children under age 3 and Parents are
  FREE Additional Adult Guests (Other than parent) $5\n\nFor more infor
 mation visit https://vbnightlife.com/events/summer-magic-family-night-
 at-virginia-moca
DTSTART:20150716T220000Z
DTEND:20150717T000000Z
CATEGORIES:fundraiser, "virginia moca"
LOCATION:Virginia MOCA
WEBSITE:
URL:
CONTACT:
ORGANIZER:VBnightlife.com / vbdaylife
ATTACH;FMTTYPE="image/jpeg":http://storage.ning.com/topology/rest/1.0/
 file/get/1664260411?profile=original
ATTENDEE;ROLE=REQ-PARTICIPANT;PARTSTAT=ACCEPTED;RSVP=TRUE;CN="VBnightl
 ife.com":https://vbnightlife.com/profile/admin
END:VEVENT
END:VCALENDAR
