BEGIN:VCALENDAR
PRODID:NingEventWidget-v1
VERSION:2.0
METHOD:PUBLISH
BEGIN:VEVENT
UID:2508951:Event:194016
DTSTAMP:20260422T012448Z
SUMMARY:Sugarland: In Your Hands Tour 2012
DESCRIPTION:TICKETS!\n\nFor more information visit https://vbnightlife
 .com/events/sugarland-in-your-hands-tour-2012
DTSTART:20120426T230000Z
DTEND:20120427T030000Z
CATEGORIES:"virginia beach events", "virginia beach concerts", "farm b
 ureau live at virginia beach"
LOCATION:Farm Bureau Live at Virginia Beach
WEBSITE:http://www.livenation.com/Farm-Bureau-Live-at-Virginia-Beach-t
 ickets-Virginia-Beach/venue/8370
URL:http://www.livenation.com/Farm-Bureau-Live-at-Virginia-Beach-ticke
 ts-Virginia-Beach/venue/8370
CONTACT:
ORGANIZER;CN="VBnightlife.com":https://vbnightlife.com/profile/admin
ATTACH;FMTTYPE="image/jpeg":http://storage.ning.com/topology/rest/1.0/
 file/get/1664166532?profile=original
ATTENDEE;ROLE=REQ-PARTICIPANT;PARTSTAT=ACCEPTED;RSVP=TRUE;CN="VBnightl
 ife.com":https://vbnightlife.com/profile/admin
END:VEVENT
END:VCALENDAR
