BEGIN:VCALENDAR
PRODID:NingEventWidget-v1
VERSION:2.0
METHOD:PUBLISH
BEGIN:VEVENT
UID:2508951:Event:210138
DTSTAMP:20260420T133115Z
SUMMARY:STOP ABUSE FUNDRAISER FORUM/VARIETY SHOW
DESCRIPTION:TO RAISE AWARENESS OF ABUSE OF MEN, WOMEN, & CHILDREN: TO 
 KNOW SIGNS OF ABUSE AND OF ABUSERS; TO GAIN INFORMATION OF RESOLUTIONS
  & RESOUCES AND PEER SUPPORT GROUPS.\nTHIS FUNDRAISER EVENT will have 
 local performers in all genres (comics,singers,bands,tappers,poets, et
 c.) and lends credence to HIP HOP CULTURES' affinity and benevolence t
 owards social issues.\nSPONSORSHIP & DONATIONS CAN BE MADE BEFORE OR D
 URING THE EVENT AS THEY WILL BENEFIT THE H.E.R. SHELTER IN PORTSMOUTH 
 , VA ( Beth Cross, Executive Director).\n\nFor more information visit 
 https://vbnightlife.com/events/stop-the-abuse-fundraiser-forum-variety
 -show
DTSTART:20130216T230000Z
DTEND:20130217T040000Z
CATEGORIES:fundraiser, forum, variety, show, entertainment, breakout, 
 artist, management
LOCATION:TWIST RESTAURANT AND BANQUET FACILITY
WEBSITE:http://www.twistva.com
URL:http://www.twistva.com
CONTACT:7572928419
ORGANIZER:Breakout Artist Management; Club Twist; H.E.R. Shelter; It's
  Breezy Outside Ent.
ATTACH;FMTTYPE="image/jpeg":http://storage.ning.com/topology/rest/1.0/
 file/get/1664188926?profile=original
ATTENDEE;ROLE=REQ-PARTICIPANT;PARTSTAT=ACCEPTED;RSVP=TRUE;CN="Breakout
  Artist Management":https://vbnightlife.com/profile/SupremeTruthReveal
 Allah
END:VEVENT
END:VCALENDAR
