BEGIN:VCALENDAR
PRODID:NingEventWidget-v1
VERSION:2.0
METHOD:PUBLISH
BEGIN:VEVENT
UID:2508951:Event:301709
DTSTAMP:20260423T025745Z
SUMMARY:\"DINE OUT\" FOR STOP ABUSE AT AMMOS AUTHENTIC GREEK CUISINE
DESCRIPTION: Stop Abuse ~ Powered By Spectrum Puppets  is a tax-exem
 pt organization fighting the epidemic of child sexual abuse through ed
 ucation, detection and referral. Through its Emmy award-winning musica
 l marionette program, “Simon Says Just Tell” children learn to r
 ecognize, prevent and disclose abuse in a safe, non-threatening enviro
 nment. The nationally acclaimed prevention program has resulted in t
 he arrest and incarceration of 158 child molesters in Hampton Roads, V
 A alone. Find out how you can help us better protect our kids.  Call
  the studio at 757-491-2873 or visit stopabuse.com.\n\nFor more infor
 mation visit https://vbnightlife.com/events/stop-abuse-fundraiser-at-a
 mmos-authentic-greek-cuisine
DTSTART:20141118T223000Z
DTEND:20141119T023000Z
CATEGORIES:fundraiser, "stop abuse", "things to do in virginia beach"
LOCATION:AMMOS AUTHENTIC GREEK CUISINE
WEBSITE:
URL:
CONTACT:(757) 340-4343
ORGANIZER:VBnightlife.com / VBdaylife.com / VBhotdeals.com
ATTACH;FMTTYPE="image/jpeg":http://storage.ning.com/topology/rest/1.0/
 file/get/1664253651?profile=original
ATTENDEE;ROLE=REQ-PARTICIPANT;PARTSTAT=ACCEPTED;RSVP=TRUE;CN="VBnightl
 ife.com":https://vbnightlife.com/profile/admin
END:VEVENT
END:VCALENDAR
