BEGIN:VCALENDAR
PRODID:NingEventWidget-v1
VERSION:2.0
METHOD:PUBLISH
BEGIN:VEVENT
UID:2508951:Event:10314
DTSTAMP:20260425T185639Z
SUMMARY:STIMULUS SUNDAY'S @ HAVANA
DESCRIPTION:BUY ONE ENTREE @ $20 OR LESS AND RECEIVE A SECOND ENTREE O
 F EQUAL OR LESSER VALUE FOR HALF PRICE\n\nFor more information visit h
 ttps://vbnightlife.com/events/stimulus-sundays-havana
DTSTART:20090405T040000Z
DTEND:20090406T035900Z
CATEGORIES:happy, hour
LOCATION:Havana Great Neck
WEBSITE:
URL:
CONTACT:
ORGANIZER:Havana
ATTACH;FMTTYPE="image/jpeg":http://storage.ning.com/topology/rest/1.0/
 file/get/1664072197?profile=original
ATTENDEE;ROLE=REQ-PARTICIPANT;PARTSTAT=ACCEPTED;RSVP=TRUE;CN="Nicole M
 axino":https://vbnightlife.com/profile/NicoleMaxino
END:VEVENT
END:VCALENDAR
