BEGIN:VCALENDAR
PRODID:NingEventWidget-v1
VERSION:2.0
METHOD:PUBLISH
BEGIN:VEVENT
UID:2508951:Event:10050
DTSTAMP:20260425T160158Z
SUMMARY:Steppers Night at Tropical Delights
DESCRIPTION:Chicago Style Steppin is a Smooth and Contemporary, Grown 
 and Sexy form of Hand Dancing. Join us EVERY Wednesday for an evening 
 of Dining, Dancing and Networking. Come See how we get our 'Step On'! 
 For Stepper Night and Steppin Lesson information, call 757-366-9855 (d
 uring business hours) or email steppers757@yahoo.com\n\n6220 Indian Ri
 ver Road\nVirginia Beach VA, 23464\n757-366-9855\n\nFor more informati
 on visit https://vbnightlife.com/events/steppers-night-at-tropical
DTSTART:20090401T230000Z
DTEND:20090402T020000Z
CATEGORIES:dance
LOCATION:Tropical delights Restaurant and Lounge
WEBSITE:
URL:
CONTACT:
ORGANIZER:Tropical Delights Restaurant and Lounge
ATTACH;FMTTYPE="image/jpeg":http://storage.ning.com/topology/rest/1.0/
 file/get/1664070223?profile=original
ATTENDEE;ROLE=REQ-PARTICIPANT;PARTSTAT=ACCEPTED;RSVP=TRUE;CN="Nicole M
 axino":https://vbnightlife.com/profile/NicoleMaxino
END:VEVENT
END:VCALENDAR
